BEGIN:VCALENDAR
PRODID:-//www.stmaryscebl.info//EN
VERSION:2.0
METHOD:PUBLISH
BEGIN:VEVENT
DTSTART;TZID=Europe/London:20230720T
DTEND;TZID=Europe/London:20230720T
URL:https://www.stmaryscebl.info/about-us/calendar/year-6-leavers-service-to-parents/
SUMMARY:Year 6 Leaver's Service to parents
LOCATION:
DESCRIPTION:
END:VEVENT
END:VCALENDAR