BEGIN:VCALENDAR
PRODID:-//www.stmaryscebl.info//EN
VERSION:2.0
METHOD:PUBLISH
BEGIN:VEVENT
DTSTART;TZID=Europe/London:20230614T153000
DTEND;TZID=Europe/London:20230614T163000
URL:https://www.stmaryscebl.info/about-us/calendar/year-6-govilon-meeting/
SUMMARY:Year 6 Govilon Meeting
LOCATION:
DESCRIPTION:
END:VEVENT
END:VCALENDAR