BEGIN:VCALENDAR
PRODID:-//www.stmaryscebl.info//EN
VERSION:2.0
METHOD:PUBLISH
BEGIN:VEVENT
DTSTART;TZID=Europe/London:20230612T
DTEND;TZID=Europe/London:20230612T
URL:https://www.stmaryscebl.info/about-us/calendar/phonics-screening-tests-year-1-and-2/
SUMMARY:Phonics Screening Tests - Year 1 & 2
LOCATION:
DESCRIPTION:
END:VEVENT
END:VCALENDAR