BEGIN:VCALENDAR
PRODID:-//www.stmaryscebl.info//EN
VERSION:2.0
METHOD:PUBLISH
BEGIN:VEVENT
DTSTART;TZID=Europe/London:20230505T
DTEND;TZID=Europe/London:20230505T
URL:https://www.stmaryscebl.info/about-us/calendar/coronation-picnic/
SUMMARY:Coronation Picnic
LOCATION:
DESCRIPTION:Bookable on ParentMail, choose the picnic school lunch to celebrate the Kings Coronation
END:VEVENT
END:VCALENDAR