BEGIN:VCALENDAR
PRODID:-//www.stmaryscebl.info//EN
VERSION:2.0
METHOD:PUBLISH
BEGIN:VEVENT
DTSTART;TZID=Europe/London:20230403T
DTEND;TZID=Europe/London:20230414T
URL:https://www.stmaryscebl.info/about-us/calendar/easter-break/
SUMMARY:Easter Break
LOCATION:
DESCRIPTION:
END:VEVENT
END:VCALENDAR