BEGIN:VCALENDAR
PRODID:-//www.stmaryscebl.info//EN
VERSION:2.0
METHOD:PUBLISH
BEGIN:VEVENT
DTSTART;TZID=Europe/London:20230515T
DTEND;TZID=Europe/London:20230515T
URL:https://www.stmaryscebl.info/about-us/calendar/sats-meeting-for-year-2-parents/
SUMMARY:Year 2 SATS start
LOCATION:
DESCRIPTION:Over 2 weeks
END:VEVENT
END:VCALENDAR