BEGIN:VCALENDAR
PRODID:-//www.stmaryscebl.info//EN
VERSION:2.0
METHOD:PUBLISH
BEGIN:VEVENT
DTSTART;TZID=Europe/London:20230503T144500
DTEND;TZID=Europe/London:20230503T154500
URL:https://www.stmaryscebl.info/about-us/calendar/walk-in-wednesday/
SUMMARY:Walk in Wednesday
LOCATION:
DESCRIPTION:May - Spelling Focus
END:VEVENT
END:VCALENDAR