BEGIN:VCALENDAR
PRODID:-//www.stmaryscebl.info//EN
VERSION:2.0
METHOD:PUBLISH
BEGIN:VEVENT
DTSTART;TZID=Europe/London:20230224T173000
DTEND;TZID=Europe/London:20230224T194500
URL:https://www.stmaryscebl.info/about-us/calendar/school-disco/
SUMMARY:School Disco
LOCATION:
DESCRIPTION:There are 2 times depending on Key Stage/Year Group.
END:VEVENT
END:VCALENDAR