BEGIN:VCALENDAR
PRODID:-//www.stmaryscebl.info//EN
VERSION:2.0
METHOD:PUBLISH
BEGIN:VEVENT
DTSTART;TZID=Europe/London:20230605T
DTEND;TZID=Europe/London:20230605T
URL:https://www.stmaryscebl.info/about-us/calendar/return-to-school/
SUMMARY:Return to school
LOCATION:
DESCRIPTION:
END:VEVENT
END:VCALENDAR